BEGIN:VCALENDAR
VERSION:2.0
PRODID:-//Fahrschule Gatz - ECPv5.14.1//NONSGML v1.0//EN
CALSCALE:GREGORIAN
METHOD:PUBLISH
X-WR-CALNAME:Fahrschule Gatz
X-ORIGINAL-URL:https://fahrschule-gatz.com
X-WR-CALDESC:Events for Fahrschule Gatz
REFRESH-INTERVAL;VALUE=DURATION:PT1H
X-Robots-Tag:noindex
X-PUBLISHED-TTL:PT1H
BEGIN:VTIMEZONE
TZID:Europe/Berlin
BEGIN:DAYLIGHT
TZOFFSETFROM:+0100
TZOFFSETTO:+0200
TZNAME:CEST
DTSTART:20260329T010000
END:DAYLIGHT
BEGIN:STANDARD
TZOFFSETFROM:+0200
TZOFFSETTO:+0100
TZNAME:CET
DTSTART:20261025T010000
END:STANDARD
END:VTIMEZONE
BEGIN:VEVENT
DTSTART;TZID=Europe/Berlin:20261027T170000
DTEND;TZID=Europe/Berlin:20261027T183000
DTSTAMP:20260421T235730
CREATED:20260315T171153Z
LAST-MODIFIED:20260315T171153Z
UID:5045-1793120400-1793125800@fahrschule-gatz.com
SUMMARY:Grundstoff Lektion 12: Verstöße gegen Verkehrsvorschriften\, Lebenslanges Lernen
DESCRIPTION:
URL:https://fahrschule-gatz.com/event/grundstoff-lektion-12-verstoesse-gegen-verkehrsvorschriften-lebenslanges-lernen-39/
END:VEVENT
BEGIN:VEVENT
DTSTART;TZID=Europe/Berlin:20261027T183000
DTEND;TZID=Europe/Berlin:20261027T200000
DTSTAMP:20260421T235730
CREATED:20260315T171640Z
LAST-MODIFIED:20260315T171640Z
UID:5053-1793125800-1793131200@fahrschule-gatz.com
SUMMARY:Grundstoff Lektion 11: Besondere Situationen
DESCRIPTION:
URL:https://fahrschule-gatz.com/event/grundstoff-lektion-11-besondere-situationen-43/
END:VEVENT
BEGIN:VEVENT
DTSTART;TZID=Europe/Berlin:20261028T170000
DTEND;TZID=Europe/Berlin:20261028T183000
DTSTAMP:20260421T235730
CREATED:20260315T171319Z
LAST-MODIFIED:20260315T171319Z
UID:5049-1793206800-1793212200@fahrschule-gatz.com
SUMMARY:Zusatzstoff Klasse B/BE Lektion 14: Fahrzeugkombinationen (Anhänger)\,Personen- Güterbeförderung
DESCRIPTION:
URL:https://fahrschule-gatz.com/event/zusatzstoff-klasse-b-be-lektion-14-fahrzeugkombinationen-anhaengerpersonen-gueterbefoerderung-40/
END:VEVENT
BEGIN:VEVENT
DTSTART;TZID=Europe/Berlin:20261028T183000
DTEND;TZID=Europe/Berlin:20261028T200000
DTSTAMP:20260421T235730
CREATED:20260315T171357Z
LAST-MODIFIED:20260315T171357Z
UID:5051-1793212200-1793217600@fahrschule-gatz.com
SUMMARY:Zusatzstoff Klasse B/BE: Lektion 13: Technische Bedingungen Fahrzeug
DESCRIPTION:
URL:https://fahrschule-gatz.com/event/zusatzstoff-klasse-b-be-lektion-13-technische-bedingungen-fahrzeug-39/
END:VEVENT
BEGIN:VEVENT
DTSTART;TZID=Europe/Berlin:20261114T090000
DTEND;TZID=Europe/Berlin:20261114T163000
DTSTAMP:20260421T235730
CREATED:20260315T173218Z
LAST-MODIFIED:20260315T173218Z
UID:5085-1794646800-1794673800@fahrschule-gatz.com
SUMMARY:Erste-Hilfe
DESCRIPTION:
URL:https://fahrschule-gatz.com/event/erste-hilfe-21/
END:VEVENT
BEGIN:VEVENT
DTSTART;TZID=Europe/Berlin:20261130T170000
DTEND;TZID=Europe/Berlin:20261130T183000
DTSTAMP:20260421T235730
CREATED:20260315T171831Z
LAST-MODIFIED:20260315T171831Z
UID:5055-1796058000-1796063400@fahrschule-gatz.com
SUMMARY:Grundstoff Lektion 1: Persönliche Voraussetzungen
DESCRIPTION:
URL:https://fahrschule-gatz.com/event/grundstoff-lektion-1-persoenliche-voraussetzungen-41/
END:VEVENT
BEGIN:VEVENT
DTSTART;TZID=Europe/Berlin:20261130T183000
DTEND;TZID=Europe/Berlin:20261130T200000
DTSTAMP:20260421T235730
CREATED:20260315T171912Z
LAST-MODIFIED:20260315T171912Z
UID:5057-1796063400-1796068800@fahrschule-gatz.com
SUMMARY:Grundstoff Lektion 2: Rechtliche Rahmenbedingungen
DESCRIPTION:
URL:https://fahrschule-gatz.com/event/grundstoff-lektion-2-rechtliche-rahmenbedingungen-44/
END:VEVENT
BEGIN:VEVENT
DTSTART;TZID=Europe/Berlin:20261201T170000
DTEND;TZID=Europe/Berlin:20261201T183000
DTSTAMP:20260421T235730
CREATED:20260315T172002Z
LAST-MODIFIED:20260315T172002Z
UID:5059-1796144400-1796149800@fahrschule-gatz.com
SUMMARY:Grundstoff Lektion 3: Verkehrszeichen
DESCRIPTION:
URL:https://fahrschule-gatz.com/event/grundstoff-lektion-3-verkehrszeichen-40/
END:VEVENT
BEGIN:VEVENT
DTSTART;TZID=Europe/Berlin:20261201T183000
DTEND;TZID=Europe/Berlin:20261201T200000
DTSTAMP:20260421T235730
CREATED:20260315T172050Z
LAST-MODIFIED:20260315T172050Z
UID:5061-1796149800-1796155200@fahrschule-gatz.com
SUMMARY:Grundstoff Lektion 4: Straßenverkehrssystem
DESCRIPTION:
URL:https://fahrschule-gatz.com/event/grundstoff-lektion-4-strassenverkehrssystem-42/
END:VEVENT
BEGIN:VEVENT
DTSTART;TZID=Europe/Berlin:20261202T170000
DTEND;TZID=Europe/Berlin:20261202T183000
DTSTAMP:20260421T235730
CREATED:20260315T172140Z
LAST-MODIFIED:20260315T172140Z
UID:5063-1796230800-1796236200@fahrschule-gatz.com
SUMMARY:Grundstoff Lektion 5: Vorfahrt
DESCRIPTION:
URL:https://fahrschule-gatz.com/event/grundstoff-lektion-5-vorfahrt-43/
END:VEVENT
BEGIN:VEVENT
DTSTART;TZID=Europe/Berlin:20261202T183000
DTEND;TZID=Europe/Berlin:20261202T200000
DTSTAMP:20260421T235730
CREATED:20260315T172226Z
LAST-MODIFIED:20260315T172226Z
UID:5065-1796236200-1796241600@fahrschule-gatz.com
SUMMARY:Grundstoff Lektion 6: Verkehrsregelungen\, Bahnübergänge
DESCRIPTION:
URL:https://fahrschule-gatz.com/event/grundstoff-lektion-6-verkehrsregelungen-bahnuebergaenge-43/
END:VEVENT
BEGIN:VEVENT
DTSTART;TZID=Europe/Berlin:20261203T170000
DTEND;TZID=Europe/Berlin:20261203T183000
DTSTAMP:20260421T235730
CREATED:20260315T172311Z
LAST-MODIFIED:20260315T172311Z
UID:5067-1796317200-1796322600@fahrschule-gatz.com
SUMMARY:Grundstoff Lektion 7: Geschwindigkeit\, Abstand
DESCRIPTION:
URL:https://fahrschule-gatz.com/event/grundstoff-lektion-7-geschwindigkeit-abstand-43/
END:VEVENT
BEGIN:VEVENT
DTSTART;TZID=Europe/Berlin:20261203T183000
DTEND;TZID=Europe/Berlin:20261203T200000
DTSTAMP:20260421T235730
CREATED:20260315T172359Z
LAST-MODIFIED:20260315T172359Z
UID:5069-1796322600-1796328000@fahrschule-gatz.com
SUMMARY:Grundstoff Lektion 8: Andere Verkehrsteilnehmer
DESCRIPTION:
URL:https://fahrschule-gatz.com/event/grundstoff-lektion-8-andere-verkehrsteilnehmer-43/
END:VEVENT
BEGIN:VEVENT
DTSTART;TZID=Europe/Berlin:20261207T170000
DTEND;TZID=Europe/Berlin:20261207T183000
DTSTAMP:20260421T235730
CREATED:20260315T172442Z
LAST-MODIFIED:20260315T172442Z
UID:5071-1796662800-1796668200@fahrschule-gatz.com
SUMMARY:Grundstoff Lektion 9: Verkehrsverhalten\, Verkehrsbeobachtung
DESCRIPTION:
URL:https://fahrschule-gatz.com/event/grundstoff-lektion-9-verkehrsverhalten-verkehrsbeobachtung-42/
END:VEVENT
BEGIN:VEVENT
DTSTART;TZID=Europe/Berlin:20261207T183000
DTEND;TZID=Europe/Berlin:20261207T200000
DTSTAMP:20260421T235730
CREATED:20260315T172532Z
LAST-MODIFIED:20260315T172532Z
UID:5073-1796668200-1796673600@fahrschule-gatz.com
SUMMARY:Grundstoff Lektion 10: Ruhender Verkehr
DESCRIPTION:
URL:https://fahrschule-gatz.com/event/grundstoff-lektion-10-ruhender-verkehr-43/
END:VEVENT
BEGIN:VEVENT
DTSTART;TZID=Europe/Berlin:20261208T170000
DTEND;TZID=Europe/Berlin:20261208T183000
DTSTAMP:20260421T235730
CREATED:20260315T172613Z
LAST-MODIFIED:20260315T172613Z
UID:5075-1796749200-1796754600@fahrschule-gatz.com
SUMMARY:Grundstoff Lektion 11: Besondere Situationen
DESCRIPTION:
URL:https://fahrschule-gatz.com/event/grundstoff-lektion-11-besondere-situationen-44/
END:VEVENT
BEGIN:VEVENT
DTSTART;TZID=Europe/Berlin:20261208T183000
DTEND;TZID=Europe/Berlin:20261208T200000
DTSTAMP:20260421T235730
CREATED:20260315T172700Z
LAST-MODIFIED:20260315T172700Z
UID:5077-1796754600-1796760000@fahrschule-gatz.com
SUMMARY:Grundstoff Lektion 12: Verstöße gegen Verkehrsvorschriften\, Lebenslanges Lernen
DESCRIPTION:
URL:https://fahrschule-gatz.com/event/grundstoff-lektion-12-verstoesse-gegen-verkehrsvorschriften-lebenslanges-lernen-40/
END:VEVENT
BEGIN:VEVENT
DTSTART;TZID=Europe/Berlin:20261209T170000
DTEND;TZID=Europe/Berlin:20261209T183000
DTSTAMP:20260421T235730
CREATED:20260315T172742Z
LAST-MODIFIED:20260315T172742Z
UID:5079-1796835600-1796841000@fahrschule-gatz.com
SUMMARY:Zusatzstoff Klasse B/BE: Lektion 13: Technische Bedingungen Fahrzeug
DESCRIPTION:
URL:https://fahrschule-gatz.com/event/zusatzstoff-klasse-b-be-lektion-13-technische-bedingungen-fahrzeug-40/
END:VEVENT
BEGIN:VEVENT
DTSTART;TZID=Europe/Berlin:20261209T183000
DTEND;TZID=Europe/Berlin:20261209T200000
DTSTAMP:20260421T235730
CREATED:20260315T172822Z
LAST-MODIFIED:20260315T172822Z
UID:5081-1796841000-1796846400@fahrschule-gatz.com
SUMMARY:Zusatzstoff Klasse B/BE Lektion 14: Fahrzeugkombinationen (Anhänger)\,Personen- Güterbeförderung
DESCRIPTION:
URL:https://fahrschule-gatz.com/event/zusatzstoff-klasse-b-be-lektion-14-fahrzeugkombinationen-anhaengerpersonen-gueterbefoerderung-41/
END:VEVENT
END:VCALENDAR