BEGIN:VCALENDAR
VERSION:2.0
PRODID:-//Fahrschule Gatz - ECPv5.14.1//NONSGML v1.0//EN
CALSCALE:GREGORIAN
METHOD:PUBLISH
X-WR-CALNAME:Fahrschule Gatz
X-ORIGINAL-URL:https://fahrschule-gatz.com
X-WR-CALDESC:Events for Fahrschule Gatz
REFRESH-INTERVAL;VALUE=DURATION:PT1H
X-Robots-Tag:noindex
X-PUBLISHED-TTL:PT1H
BEGIN:VTIMEZONE
TZID:Europe/Berlin
BEGIN:DAYLIGHT
TZOFFSETFROM:+0100
TZOFFSETTO:+0200
TZNAME:CEST
DTSTART:20260329T010000
END:DAYLIGHT
BEGIN:STANDARD
TZOFFSETFROM:+0200
TZOFFSETTO:+0100
TZNAME:CET
DTSTART:20261025T010000
END:STANDARD
END:VTIMEZONE
BEGIN:VEVENT
DTSTART;TZID=Europe/Berlin:20260721T170000
DTEND;TZID=Europe/Berlin:20260721T183000
DTSTAMP:20260421T192307
CREATED:20260315T121917Z
LAST-MODIFIED:20260315T121917Z
UID:4963-1784653200-1784658600@fahrschule-gatz.com
SUMMARY:Grundstoff Lektion 4: Straßenverkehrssystem
DESCRIPTION:
URL:https://fahrschule-gatz.com/event/grundstoff-lektion-4-strassenverkehrssystem-39/
END:VEVENT
BEGIN:VEVENT
DTSTART;TZID=Europe/Berlin:20260721T183000
DTEND;TZID=Europe/Berlin:20260721T200000
DTSTAMP:20260421T192307
CREATED:20260315T122042Z
LAST-MODIFIED:20260315T122042Z
UID:4965-1784658600-1784664000@fahrschule-gatz.com
SUMMARY:Grundstoff Lektion 3: Verkehrszeichen
DESCRIPTION:
URL:https://fahrschule-gatz.com/event/grundstoff-lektion-3-verkehrszeichen-37/
END:VEVENT
BEGIN:VEVENT
DTSTART;TZID=Europe/Berlin:20260722T170000
DTEND;TZID=Europe/Berlin:20260722T183000
DTSTAMP:20260421T192307
CREATED:20260315T122134Z
LAST-MODIFIED:20260315T122134Z
UID:4967-1784739600-1784745000@fahrschule-gatz.com
SUMMARY:Grundstoff Lektion 6: Verkehrsregelungen\, Bahnübergänge
DESCRIPTION:
URL:https://fahrschule-gatz.com/event/grundstoff-lektion-6-verkehrsregelungen-bahnuebergaenge-40/
END:VEVENT
BEGIN:VEVENT
DTSTART;TZID=Europe/Berlin:20260722T183000
DTEND;TZID=Europe/Berlin:20260722T200000
DTSTAMP:20260421T192307
CREATED:20260315T122225Z
LAST-MODIFIED:20260315T123215Z
UID:4969-1784745000-1784750400@fahrschule-gatz.com
SUMMARY:Grundstoff Lektion 5: Vorfahrt
DESCRIPTION:
URL:https://fahrschule-gatz.com/event/grundstoff-lektion-5-vorfahrt-40/
END:VEVENT
BEGIN:VEVENT
DTSTART;TZID=Europe/Berlin:20260723T170000
DTEND;TZID=Europe/Berlin:20260723T183000
DTSTAMP:20260421T192307
CREATED:20260315T122349Z
LAST-MODIFIED:20260315T122349Z
UID:4971-1784826000-1784831400@fahrschule-gatz.com
SUMMARY:Grundstoff Lektion 8: Andere Verkehrsteilnehmer
DESCRIPTION:
URL:https://fahrschule-gatz.com/event/grundstoff-lektion-8-andere-verkehrsteilnehmer-40/
END:VEVENT
BEGIN:VEVENT
DTSTART;TZID=Europe/Berlin:20260723T183000
DTEND;TZID=Europe/Berlin:20260723T200000
DTSTAMP:20260421T192307
CREATED:20260315T122448Z
LAST-MODIFIED:20260315T122448Z
UID:4973-1784831400-1784836800@fahrschule-gatz.com
SUMMARY:Grundstoff Lektion 7: Geschwindigkeit\, Abstand
DESCRIPTION:
URL:https://fahrschule-gatz.com/event/grundstoff-lektion-7-geschwindigkeit-abstand-40/
END:VEVENT
BEGIN:VEVENT
DTSTART;TZID=Europe/Berlin:20260727T170000
DTEND;TZID=Europe/Berlin:20260727T183000
DTSTAMP:20260421T192307
CREATED:20260315T122552Z
LAST-MODIFIED:20260315T122552Z
UID:4975-1785171600-1785177000@fahrschule-gatz.com
SUMMARY:Grundstoff Lektion 10: Ruhender Verkehr
DESCRIPTION:
URL:https://fahrschule-gatz.com/event/grundstoff-lektion-10-ruhender-verkehr-40/
END:VEVENT
BEGIN:VEVENT
DTSTART;TZID=Europe/Berlin:20260727T183000
DTEND;TZID=Europe/Berlin:20260727T200000
DTSTAMP:20260421T192307
CREATED:20260315T122657Z
LAST-MODIFIED:20260315T122657Z
UID:4977-1785177000-1785182400@fahrschule-gatz.com
SUMMARY:Grundstoff Lektion 9: Verkehrsverhalten\, Verkehrsbeobachtung
DESCRIPTION:
URL:https://fahrschule-gatz.com/event/grundstoff-lektion-9-verkehrsverhalten-verkehrsbeobachtung-39/
END:VEVENT
BEGIN:VEVENT
DTSTART;TZID=Europe/Berlin:20260728T170000
DTEND;TZID=Europe/Berlin:20260728T183000
DTSTAMP:20260421T192307
CREATED:20260315T122751Z
LAST-MODIFIED:20260315T122751Z
UID:4979-1785258000-1785263400@fahrschule-gatz.com
SUMMARY:Grundstoff Lektion 12: Verstöße gegen Verkehrsvorschriften\, Lebenslanges Lernen
DESCRIPTION:
URL:https://fahrschule-gatz.com/event/grundstoff-lektion-12-verstoesse-gegen-verkehrsvorschriften-lebenslanges-lernen-37/
END:VEVENT
BEGIN:VEVENT
DTSTART;TZID=Europe/Berlin:20260728T183000
DTEND;TZID=Europe/Berlin:20260728T200000
DTSTAMP:20260421T192307
CREATED:20260315T122841Z
LAST-MODIFIED:20260315T122841Z
UID:4981-1785263400-1785268800@fahrschule-gatz.com
SUMMARY:Grundstoff Lektion 11: Besondere Situationen
DESCRIPTION:
URL:https://fahrschule-gatz.com/event/grundstoff-lektion-11-besondere-situationen-41/
END:VEVENT
BEGIN:VEVENT
DTSTART;TZID=Europe/Berlin:20260729T170000
DTEND;TZID=Europe/Berlin:20260729T183000
DTSTAMP:20260421T192307
CREATED:20260315T122932Z
LAST-MODIFIED:20260315T122932Z
UID:4983-1785344400-1785349800@fahrschule-gatz.com
SUMMARY:Zusatzstoff Klasse B/BE Lektion 14: Fahrzeugkombinationen (Anhänger)\,Personen- Güterbeförderung
DESCRIPTION:
URL:https://fahrschule-gatz.com/event/zusatzstoff-klasse-b-be-lektion-14-fahrzeugkombinationen-anhaengerpersonen-gueterbefoerderung-38/
END:VEVENT
BEGIN:VEVENT
DTSTART;TZID=Europe/Berlin:20260729T183000
DTEND;TZID=Europe/Berlin:20260729T200000
DTSTAMP:20260421T192307
CREATED:20260315T123020Z
LAST-MODIFIED:20260315T123020Z
UID:4985-1785349800-1785355200@fahrschule-gatz.com
SUMMARY:Zusatzstoff Klasse B/BE: Lektion 13: Technische Bedingungen Fahrzeug
DESCRIPTION:
URL:https://fahrschule-gatz.com/event/zusatzstoff-klasse-b-be-lektion-13-technische-bedingungen-fahrzeug-37/
END:VEVENT
BEGIN:VEVENT
DTSTART;TZID=Europe/Berlin:20260921T170000
DTEND;TZID=Europe/Berlin:20260921T183000
DTSTAMP:20260421T192307
CREATED:20260315T130238Z
LAST-MODIFIED:20260315T130238Z
UID:4987-1790010000-1790015400@fahrschule-gatz.com
SUMMARY:Grundstoff Lektion 1: Persönliche Voraussetzungen
DESCRIPTION:
URL:https://fahrschule-gatz.com/event/grundstoff-lektion-1-persoenliche-voraussetzungen-39/
END:VEVENT
BEGIN:VEVENT
DTSTART;TZID=Europe/Berlin:20260921T183000
DTEND;TZID=Europe/Berlin:20260921T200000
DTSTAMP:20260421T192307
CREATED:20260315T130332Z
LAST-MODIFIED:20260315T130332Z
UID:4989-1790015400-1790020800@fahrschule-gatz.com
SUMMARY:Grundstoff Lektion 2: Rechtliche Rahmenbedingungen
DESCRIPTION:
URL:https://fahrschule-gatz.com/event/grundstoff-lektion-2-rechtliche-rahmenbedingungen-42/
END:VEVENT
BEGIN:VEVENT
DTSTART;TZID=Europe/Berlin:20260922T170000
DTEND;TZID=Europe/Berlin:20260922T183000
DTSTAMP:20260421T192307
CREATED:20260315T130427Z
LAST-MODIFIED:20260315T130427Z
UID:4991-1790096400-1790101800@fahrschule-gatz.com
SUMMARY:Grundstoff Lektion 3: Verkehrszeichen
DESCRIPTION:
URL:https://fahrschule-gatz.com/event/grundstoff-lektion-3-verkehrszeichen-38/
END:VEVENT
BEGIN:VEVENT
DTSTART;TZID=Europe/Berlin:20260922T183000
DTEND;TZID=Europe/Berlin:20260922T200000
DTSTAMP:20260421T192307
CREATED:20260315T130513Z
LAST-MODIFIED:20260315T130513Z
UID:4993-1790101800-1790107200@fahrschule-gatz.com
SUMMARY:Grundstoff Lektion 4: Straßenverkehrssystem
DESCRIPTION:
URL:https://fahrschule-gatz.com/event/grundstoff-lektion-4-strassenverkehrssystem-40/
END:VEVENT
BEGIN:VEVENT
DTSTART;TZID=Europe/Berlin:20260923T170000
DTEND;TZID=Europe/Berlin:20260923T183000
DTSTAMP:20260421T192307
CREATED:20260315T130609Z
LAST-MODIFIED:20260315T130609Z
UID:4995-1790182800-1790188200@fahrschule-gatz.com
SUMMARY:Grundstoff Lektion 5: Vorfahrt
DESCRIPTION:
URL:https://fahrschule-gatz.com/event/grundstoff-lektion-5-vorfahrt-41/
END:VEVENT
BEGIN:VEVENT
DTSTART;TZID=Europe/Berlin:20260923T183000
DTEND;TZID=Europe/Berlin:20260923T200000
DTSTAMP:20260421T192307
CREATED:20260315T130654Z
LAST-MODIFIED:20260315T130654Z
UID:4997-1790188200-1790193600@fahrschule-gatz.com
SUMMARY:Grundstoff Lektion 6: Verkehrsregelungen\, Bahnübergänge
DESCRIPTION:
URL:https://fahrschule-gatz.com/event/grundstoff-lektion-6-verkehrsregelungen-bahnuebergaenge-41/
END:VEVENT
BEGIN:VEVENT
DTSTART;TZID=Europe/Berlin:20260924T170000
DTEND;TZID=Europe/Berlin:20260924T183000
DTSTAMP:20260421T192307
CREATED:20260315T130742Z
LAST-MODIFIED:20260315T130742Z
UID:4999-1790269200-1790274600@fahrschule-gatz.com
SUMMARY:Grundstoff Lektion 7: Geschwindigkeit\, Abstand
DESCRIPTION:
URL:https://fahrschule-gatz.com/event/grundstoff-lektion-7-geschwindigkeit-abstand-41/
END:VEVENT
BEGIN:VEVENT
DTSTART;TZID=Europe/Berlin:20260924T183000
DTEND;TZID=Europe/Berlin:20260924T200000
DTSTAMP:20260421T192307
CREATED:20260315T130820Z
LAST-MODIFIED:20260315T130820Z
UID:5001-1790274600-1790280000@fahrschule-gatz.com
SUMMARY:Grundstoff Lektion 8: Andere Verkehrsteilnehmer
DESCRIPTION:
URL:https://fahrschule-gatz.com/event/grundstoff-lektion-8-andere-verkehrsteilnehmer-41/
END:VEVENT
BEGIN:VEVENT
DTSTART;TZID=Europe/Berlin:20260928T170000
DTEND;TZID=Europe/Berlin:20260928T183000
DTSTAMP:20260421T192307
CREATED:20260315T130859Z
LAST-MODIFIED:20260315T130859Z
UID:5003-1790614800-1790620200@fahrschule-gatz.com
SUMMARY:Grundstoff Lektion 9: Verkehrsverhalten\, Verkehrsbeobachtung
DESCRIPTION:
URL:https://fahrschule-gatz.com/event/grundstoff-lektion-9-verkehrsverhalten-verkehrsbeobachtung-40/
END:VEVENT
BEGIN:VEVENT
DTSTART;TZID=Europe/Berlin:20260928T183000
DTEND;TZID=Europe/Berlin:20260928T200000
DTSTAMP:20260421T192307
CREATED:20260315T130940Z
LAST-MODIFIED:20260315T130940Z
UID:5006-1790620200-1790625600@fahrschule-gatz.com
SUMMARY:Grundstoff Lektion 10: Ruhender Verkehr
DESCRIPTION:
URL:https://fahrschule-gatz.com/event/grundstoff-lektion-10-ruhender-verkehr-41/
END:VEVENT
BEGIN:VEVENT
DTSTART;TZID=Europe/Berlin:20260929T170000
DTEND;TZID=Europe/Berlin:20260929T183000
DTSTAMP:20260421T192307
CREATED:20260315T131024Z
LAST-MODIFIED:20260315T131024Z
UID:5008-1790701200-1790706600@fahrschule-gatz.com
SUMMARY:Grundstoff Lektion 11: Besondere Situationen
DESCRIPTION:
URL:https://fahrschule-gatz.com/event/grundstoff-lektion-11-besondere-situationen-42/
END:VEVENT
BEGIN:VEVENT
DTSTART;TZID=Europe/Berlin:20260929T183000
DTEND;TZID=Europe/Berlin:20260929T200000
DTSTAMP:20260421T192307
CREATED:20260315T131108Z
LAST-MODIFIED:20260315T131108Z
UID:5010-1790706600-1790712000@fahrschule-gatz.com
SUMMARY:Grundstoff Lektion 12: Verstöße gegen Verkehrsvorschriften\, Lebenslanges Lernen
DESCRIPTION:
URL:https://fahrschule-gatz.com/event/grundstoff-lektion-12-verstoesse-gegen-verkehrsvorschriften-lebenslanges-lernen-38/
END:VEVENT
BEGIN:VEVENT
DTSTART;TZID=Europe/Berlin:20260930T170000
DTEND;TZID=Europe/Berlin:20260930T183000
DTSTAMP:20260421T192307
CREATED:20260315T131154Z
LAST-MODIFIED:20260315T131154Z
UID:5012-1790787600-1790793000@fahrschule-gatz.com
SUMMARY:Zusatzstoff Klasse B/BE: Lektion 13: Technische Bedingungen Fahrzeug
DESCRIPTION:
URL:https://fahrschule-gatz.com/event/zusatzstoff-klasse-b-be-lektion-13-technische-bedingungen-fahrzeug-38/
END:VEVENT
BEGIN:VEVENT
DTSTART;TZID=Europe/Berlin:20260930T183000
DTEND;TZID=Europe/Berlin:20260930T200000
DTSTAMP:20260421T192307
CREATED:20260315T131230Z
LAST-MODIFIED:20260315T131230Z
UID:5015-1790793000-1790798400@fahrschule-gatz.com
SUMMARY:Zusatzstoff Klasse B/BE Lektion 14: Fahrzeugkombinationen (Anhänger)\,Personen- Güterbeförderung
DESCRIPTION:
URL:https://fahrschule-gatz.com/event/zusatzstoff-klasse-b-be-lektion-14-fahrzeugkombinationen-anhaengerpersonen-gueterbefoerderung-39/
END:VEVENT
BEGIN:VEVENT
DTSTART;TZID=Europe/Berlin:20261010T090000
DTEND;TZID=Europe/Berlin:20261010T163000
DTSTAMP:20260421T192307
CREATED:20260315T173144Z
LAST-MODIFIED:20260315T173144Z
UID:5083-1791622800-1791649800@fahrschule-gatz.com
SUMMARY:Erste-Hilfe
DESCRIPTION:
URL:https://fahrschule-gatz.com/event/erste-hilfe-20/
END:VEVENT
BEGIN:VEVENT
DTSTART;TZID=Europe/Berlin:20261019T170000
DTEND;TZID=Europe/Berlin:20261019T183000
DTSTAMP:20260421T192307
CREATED:20260315T170346Z
LAST-MODIFIED:20260315T170346Z
UID:5025-1792429200-1792434600@fahrschule-gatz.com
SUMMARY:Grundstoff Lektion 2: Rechtliche Rahmenbedingungen
DESCRIPTION:
URL:https://fahrschule-gatz.com/event/grundstoff-lektion-2-rechtliche-rahmenbedingungen-43/
END:VEVENT
BEGIN:VEVENT
DTSTART;TZID=Europe/Berlin:20261019T183000
DTEND;TZID=Europe/Berlin:20261019T200000
DTSTAMP:20260421T192307
CREATED:20260315T170439Z
LAST-MODIFIED:20260315T170439Z
UID:5027-1792434600-1792440000@fahrschule-gatz.com
SUMMARY:Grundstoff Lektion 1: Persönliche Voraussetzungen
DESCRIPTION:
URL:https://fahrschule-gatz.com/event/grundstoff-lektion-1-persoenliche-voraussetzungen-40/
END:VEVENT
BEGIN:VEVENT
DTSTART;TZID=Europe/Berlin:20261020T170000
DTEND;TZID=Europe/Berlin:20261020T183000
DTSTAMP:20260421T192307
CREATED:20260315T170551Z
LAST-MODIFIED:20260315T170551Z
UID:5029-1792515600-1792521000@fahrschule-gatz.com
SUMMARY:Grundstoff Lektion 4: Straßenverkehrssystem
DESCRIPTION:
URL:https://fahrschule-gatz.com/event/grundstoff-lektion-4-strassenverkehrssystem-41/
END:VEVENT
END:VCALENDAR