BEGIN:VCALENDAR
VERSION:2.0
PRODID:-//Fahrschule Gatz - ECPv5.14.1//NONSGML v1.0//EN
CALSCALE:GREGORIAN
METHOD:PUBLISH
X-WR-CALNAME:Fahrschule Gatz
X-ORIGINAL-URL:https://fahrschule-gatz.com
X-WR-CALDESC:Events for Fahrschule Gatz
REFRESH-INTERVAL;VALUE=DURATION:PT1H
X-Robots-Tag:noindex
X-PUBLISHED-TTL:PT1H
BEGIN:VTIMEZONE
TZID:Europe/Berlin
BEGIN:DAYLIGHT
TZOFFSETFROM:+0100
TZOFFSETTO:+0200
TZNAME:CEST
DTSTART:20260329T010000
END:DAYLIGHT
BEGIN:STANDARD
TZOFFSETFROM:+0200
TZOFFSETTO:+0100
TZNAME:CET
DTSTART:20261025T010000
END:STANDARD
END:VTIMEZONE
BEGIN:VEVENT
DTSTART;TZID=Europe/Berlin:20260421T170000
DTEND;TZID=Europe/Berlin:20260421T183000
DTSTAMP:20260421T173520
CREATED:20251214T174828Z
LAST-MODIFIED:20251214T174828Z
UID:4878-1776790800-1776796200@fahrschule-gatz.com
SUMMARY:Grundstoff Lektion 11: Besondere Situationen
DESCRIPTION:
URL:https://fahrschule-gatz.com/event/grundstoff-lektion-11-besondere-situationen-38/
END:VEVENT
BEGIN:VEVENT
DTSTART;TZID=Europe/Berlin:20260421T183000
DTEND;TZID=Europe/Berlin:20260421T200000
DTSTAMP:20260421T173520
CREATED:20251214T174925Z
LAST-MODIFIED:20251214T174925Z
UID:4880-1776796200-1776801600@fahrschule-gatz.com
SUMMARY:Grundstoff Lektion 12: Verstöße gegen Verkehrsvorschriften\, Lebenslanges Lernen
DESCRIPTION:
URL:https://fahrschule-gatz.com/event/grundstoff-lektion-12-verstoesse-gegen-verkehrsvorschriften-lebenslanges-lernen-34/
END:VEVENT
END:VCALENDAR