BEGIN:VCALENDAR
VERSION:2.0
PRODID:-//Fahrschule Gatz - ECPv5.14.1//NONSGML v1.0//EN
CALSCALE:GREGORIAN
METHOD:PUBLISH
X-WR-CALNAME:Fahrschule Gatz
X-ORIGINAL-URL:https://fahrschule-gatz.com
X-WR-CALDESC:Events for Fahrschule Gatz
REFRESH-INTERVAL;VALUE=DURATION:PT1H
X-Robots-Tag:noindex
X-PUBLISHED-TTL:PT1H
BEGIN:VTIMEZONE
TZID:Europe/Berlin
BEGIN:DAYLIGHT
TZOFFSETFROM:+0100
TZOFFSETTO:+0200
TZNAME:CEST
DTSTART:20260329T010000
END:DAYLIGHT
BEGIN:STANDARD
TZOFFSETFROM:+0200
TZOFFSETTO:+0100
TZNAME:CET
DTSTART:20261025T010000
END:STANDARD
END:VTIMEZONE
BEGIN:VEVENT
DTSTART;TZID=Europe/Berlin:20260421T170000
DTEND;TZID=Europe/Berlin:20260421T183000
DTSTAMP:20260421T131130
CREATED:20251214T174828Z
LAST-MODIFIED:20251214T174828Z
UID:4878-1776790800-1776796200@fahrschule-gatz.com
SUMMARY:Grundstoff Lektion 11: Besondere Situationen
DESCRIPTION:
URL:https://fahrschule-gatz.com/event/grundstoff-lektion-11-besondere-situationen-38/
END:VEVENT
BEGIN:VEVENT
DTSTART;TZID=Europe/Berlin:20260421T183000
DTEND;TZID=Europe/Berlin:20260421T200000
DTSTAMP:20260421T131130
CREATED:20251214T174925Z
LAST-MODIFIED:20251214T174925Z
UID:4880-1776796200-1776801600@fahrschule-gatz.com
SUMMARY:Grundstoff Lektion 12: Verstöße gegen Verkehrsvorschriften\, Lebenslanges Lernen
DESCRIPTION:
URL:https://fahrschule-gatz.com/event/grundstoff-lektion-12-verstoesse-gegen-verkehrsvorschriften-lebenslanges-lernen-34/
END:VEVENT
BEGIN:VEVENT
DTSTART;TZID=Europe/Berlin:20260422T170000
DTEND;TZID=Europe/Berlin:20260422T183000
DTSTAMP:20260421T131130
CREATED:20251214T175026Z
LAST-MODIFIED:20251214T175026Z
UID:4882-1776877200-1776882600@fahrschule-gatz.com
SUMMARY:Zusatzstoff Klasse B/BE: Lektion 13: Technische Bedingungen Fahrzeug
DESCRIPTION:
URL:https://fahrschule-gatz.com/event/zusatzstoff-klasse-b-be-lektion-13-technische-bedingungen-fahrzeug-34/
END:VEVENT
BEGIN:VEVENT
DTSTART;TZID=Europe/Berlin:20260422T183000
DTEND;TZID=Europe/Berlin:20260422T200000
DTSTAMP:20260421T131130
CREATED:20251214T175117Z
LAST-MODIFIED:20251214T175117Z
UID:4884-1776882600-1776888000@fahrschule-gatz.com
SUMMARY:Zusatzstoff Klasse B/BE Lektion 14: Fahrzeugkombinationen (Anhänger)\,Personen- Güterbeförderung
DESCRIPTION:
URL:https://fahrschule-gatz.com/event/zusatzstoff-klasse-b-be-lektion-14-fahrzeugkombinationen-anhaengerpersonen-gueterbefoerderung-35/
END:VEVENT
BEGIN:VEVENT
DTSTART;TZID=Europe/Berlin:20260509T090000
DTEND;TZID=Europe/Berlin:20260509T163000
DTSTAMP:20260421T131130
CREATED:20260315T131645Z
LAST-MODIFIED:20260315T131645Z
UID:5019-1778317200-1778344200@fahrschule-gatz.com
SUMMARY:Erste-Hilfe
DESCRIPTION:
URL:https://fahrschule-gatz.com/event/erste-hilfe-17/
END:VEVENT
BEGIN:VEVENT
DTSTART;TZID=Europe/Berlin:20260511T170000
DTEND;TZID=Europe/Berlin:20260511T183000
DTSTAMP:20260421T131130
CREATED:20251214T175332Z
LAST-MODIFIED:20251214T175332Z
UID:4886-1778518800-1778524200@fahrschule-gatz.com
SUMMARY:Grundstoff Lektion 2: Rechtliche Rahmenbedingungen
DESCRIPTION:
URL:https://fahrschule-gatz.com/event/grundstoff-lektion-2-rechtliche-rahmenbedingungen-39/
END:VEVENT
BEGIN:VEVENT
DTSTART;TZID=Europe/Berlin:20260511T183000
DTEND;TZID=Europe/Berlin:20260511T200000
DTSTAMP:20260421T131130
CREATED:20251214T175424Z
LAST-MODIFIED:20251214T175424Z
UID:4888-1778524200-1778529600@fahrschule-gatz.com
SUMMARY:Grundstoff Lektion 1: Persönliche Voraussetzungen
DESCRIPTION:
URL:https://fahrschule-gatz.com/event/grundstoff-lektion-1-persoenliche-voraussetzungen-36/
END:VEVENT
BEGIN:VEVENT
DTSTART;TZID=Europe/Berlin:20260512T170000
DTEND;TZID=Europe/Berlin:20260512T183000
DTSTAMP:20260421T131130
CREATED:20251214T175518Z
LAST-MODIFIED:20251214T175518Z
UID:4890-1778605200-1778610600@fahrschule-gatz.com
SUMMARY:Grundstoff Lektion 4: Straßenverkehrssystem
DESCRIPTION:
URL:https://fahrschule-gatz.com/event/grundstoff-lektion-4-strassenverkehrssystem-37/
END:VEVENT
BEGIN:VEVENT
DTSTART;TZID=Europe/Berlin:20260512T183000
DTEND;TZID=Europe/Berlin:20260512T200000
DTSTAMP:20260421T131130
CREATED:20251214T175604Z
LAST-MODIFIED:20251214T175604Z
UID:4892-1778610600-1778616000@fahrschule-gatz.com
SUMMARY:Grundstoff Lektion 3: Verkehrszeichen
DESCRIPTION:
URL:https://fahrschule-gatz.com/event/grundstoff-lektion-3-verkehrszeichen-35/
END:VEVENT
BEGIN:VEVENT
DTSTART;TZID=Europe/Berlin:20260513T170000
DTEND;TZID=Europe/Berlin:20260513T183000
DTSTAMP:20260421T131130
CREATED:20251214T175719Z
LAST-MODIFIED:20251214T175719Z
UID:4894-1778691600-1778697000@fahrschule-gatz.com
SUMMARY:Grundstoff Lektion 6: Verkehrsregelungen\, Bahnübergänge
DESCRIPTION:
URL:https://fahrschule-gatz.com/event/grundstoff-lektion-6-verkehrsregelungen-bahnuebergaenge-38/
END:VEVENT
BEGIN:VEVENT
DTSTART;TZID=Europe/Berlin:20260513T183000
DTEND;TZID=Europe/Berlin:20260513T200000
DTSTAMP:20260421T131130
CREATED:20251214T175817Z
LAST-MODIFIED:20251214T175817Z
UID:4896-1778697000-1778702400@fahrschule-gatz.com
SUMMARY:Grundstoff Lektion 5: Vorfahrt
DESCRIPTION:
URL:https://fahrschule-gatz.com/event/grundstoff-lektion-5-vorfahrt-38/
END:VEVENT
BEGIN:VEVENT
DTSTART;TZID=Europe/Berlin:20260518T170000
DTEND;TZID=Europe/Berlin:20260518T183000
DTSTAMP:20260421T131130
CREATED:20251214T175905Z
LAST-MODIFIED:20251214T181000Z
UID:4898-1779123600-1779129000@fahrschule-gatz.com
SUMMARY:Grundstoff Lektion 8: Andere Verkehrsteilnehmer
DESCRIPTION:
URL:https://fahrschule-gatz.com/event/grundstoff-lektion-8-andere-verkehrsteilnehmer-38/
END:VEVENT
BEGIN:VEVENT
DTSTART;TZID=Europe/Berlin:20260518T183000
DTEND;TZID=Europe/Berlin:20260518T200000
DTSTAMP:20260421T131130
CREATED:20251214T175959Z
LAST-MODIFIED:20251214T180921Z
UID:4900-1779129000-1779134400@fahrschule-gatz.com
SUMMARY:Grundstoff Lektion 7: Geschwindigkeit\, Abstand
DESCRIPTION:
URL:https://fahrschule-gatz.com/event/grundstoff-lektion-7-geschwindigkeit-abstand-38/
END:VEVENT
BEGIN:VEVENT
DTSTART;TZID=Europe/Berlin:20260519T170000
DTEND;TZID=Europe/Berlin:20260519T183000
DTSTAMP:20260421T131130
CREATED:20251214T180054Z
LAST-MODIFIED:20251214T180849Z
UID:4902-1779210000-1779215400@fahrschule-gatz.com
SUMMARY:Grundstoff Lektion 10: Ruhender Verkehr
DESCRIPTION:
URL:https://fahrschule-gatz.com/event/grundstoff-lektion-10-ruhender-verkehr-38/
END:VEVENT
BEGIN:VEVENT
DTSTART;TZID=Europe/Berlin:20260519T183000
DTEND;TZID=Europe/Berlin:20260519T200000
DTSTAMP:20260421T131130
CREATED:20251214T180155Z
LAST-MODIFIED:20251214T180816Z
UID:4904-1779215400-1779220800@fahrschule-gatz.com
SUMMARY:Grundstoff Lektion 9: Verkehrsverhalten\, Verkehrsbeobachtung
DESCRIPTION:
URL:https://fahrschule-gatz.com/event/grundstoff-lektion-9-verkehrsverhalten-verkehrsbeobachtung-37/
END:VEVENT
BEGIN:VEVENT
DTSTART;TZID=Europe/Berlin:20260520T170000
DTEND;TZID=Europe/Berlin:20260520T183000
DTSTAMP:20260421T131130
CREATED:20251214T180249Z
LAST-MODIFIED:20251214T180735Z
UID:4906-1779296400-1779301800@fahrschule-gatz.com
SUMMARY:Grundstoff Lektion 12: Verstöße gegen Verkehrsvorschriften\, Lebenslanges Lernen
DESCRIPTION:
URL:https://fahrschule-gatz.com/event/grundstoff-lektion-12-verstoesse-gegen-verkehrsvorschriften-lebenslanges-lernen-35/
END:VEVENT
BEGIN:VEVENT
DTSTART;TZID=Europe/Berlin:20260520T183000
DTEND;TZID=Europe/Berlin:20260520T200000
DTSTAMP:20260421T131130
CREATED:20251214T180406Z
LAST-MODIFIED:20251214T180406Z
UID:4908-1779301800-1779307200@fahrschule-gatz.com
SUMMARY:Grundstoff Lektion 11: Besondere Situationen
DESCRIPTION:
URL:https://fahrschule-gatz.com/event/grundstoff-lektion-11-besondere-situationen-39/
END:VEVENT
BEGIN:VEVENT
DTSTART;TZID=Europe/Berlin:20260521T170000
DTEND;TZID=Europe/Berlin:20260521T183000
DTSTAMP:20260421T131130
CREATED:20251214T180513Z
LAST-MODIFIED:20251214T180513Z
UID:4910-1779382800-1779388200@fahrschule-gatz.com
SUMMARY:Zusatzstoff Klasse B/BE Lektion 14: Fahrzeugkombinationen (Anhänger)\,Personen- Güterbeförderung
DESCRIPTION:
URL:https://fahrschule-gatz.com/event/zusatzstoff-klasse-b-be-lektion-14-fahrzeugkombinationen-anhaengerpersonen-gueterbefoerderung-36/
END:VEVENT
BEGIN:VEVENT
DTSTART;TZID=Europe/Berlin:20260521T183000
DTEND;TZID=Europe/Berlin:20260521T200000
DTSTAMP:20260421T131130
CREATED:20251214T180606Z
LAST-MODIFIED:20251214T180606Z
UID:4912-1779388200-1779393600@fahrschule-gatz.com
SUMMARY:Zusatzstoff Klasse B/BE: Lektion 13: Technische Bedingungen Fahrzeug
DESCRIPTION:
URL:https://fahrschule-gatz.com/event/zusatzstoff-klasse-b-be-lektion-13-technische-bedingungen-fahrzeug-35/
END:VEVENT
BEGIN:VEVENT
DTSTART;TZID=Europe/Berlin:20260613T090000
DTEND;TZID=Europe/Berlin:20260613T163000
DTSTAMP:20260421T131130
CREATED:20260315T131721Z
LAST-MODIFIED:20260315T131721Z
UID:5021-1781341200-1781368200@fahrschule-gatz.com
SUMMARY:Erste-Hilfe
DESCRIPTION:
URL:https://fahrschule-gatz.com/event/erste-hilfe-18/
END:VEVENT
BEGIN:VEVENT
DTSTART;TZID=Europe/Berlin:20260615T170000
DTEND;TZID=Europe/Berlin:20260615T183000
DTSTAMP:20260421T131130
CREATED:20260315T115344Z
LAST-MODIFIED:20260315T115344Z
UID:4931-1781542800-1781548200@fahrschule-gatz.com
SUMMARY:Grundstoff Lektion 1: Persönliche Voraussetzungen
DESCRIPTION:
URL:https://fahrschule-gatz.com/event/grundstoff-lektion-1-persoenliche-voraussetzungen-37/
END:VEVENT
BEGIN:VEVENT
DTSTART;TZID=Europe/Berlin:20260615T183000
DTEND;TZID=Europe/Berlin:20260615T200000
DTSTAMP:20260421T131130
CREATED:20260315T115450Z
LAST-MODIFIED:20260315T115450Z
UID:4933-1781548200-1781553600@fahrschule-gatz.com
SUMMARY:Grundstoff Lektion 2: Rechtliche Rahmenbedingungen
DESCRIPTION:
URL:https://fahrschule-gatz.com/event/grundstoff-lektion-2-rechtliche-rahmenbedingungen-40/
END:VEVENT
BEGIN:VEVENT
DTSTART;TZID=Europe/Berlin:20260616T170000
DTEND;TZID=Europe/Berlin:20260616T183000
DTSTAMP:20260421T131130
CREATED:20260315T115552Z
LAST-MODIFIED:20260315T115552Z
UID:4935-1781629200-1781634600@fahrschule-gatz.com
SUMMARY:Grundstoff Lektion 3: Verkehrszeichen
DESCRIPTION:
URL:https://fahrschule-gatz.com/event/grundstoff-lektion-3-verkehrszeichen-36/
END:VEVENT
BEGIN:VEVENT
DTSTART;TZID=Europe/Berlin:20260616T183000
DTEND;TZID=Europe/Berlin:20260616T200000
DTSTAMP:20260421T131130
CREATED:20260315T115650Z
LAST-MODIFIED:20260315T115650Z
UID:4937-1781634600-1781640000@fahrschule-gatz.com
SUMMARY:Grundstoff Lektion 4: Straßenverkehrssystem
DESCRIPTION:
URL:https://fahrschule-gatz.com/event/grundstoff-lektion-4-strassenverkehrssystem-38/
END:VEVENT
BEGIN:VEVENT
DTSTART;TZID=Europe/Berlin:20260617T170000
DTEND;TZID=Europe/Berlin:20260617T183000
DTSTAMP:20260421T131130
CREATED:20260315T115759Z
LAST-MODIFIED:20260315T115759Z
UID:4939-1781715600-1781721000@fahrschule-gatz.com
SUMMARY:Grundstoff Lektion 5: Vorfahrt
DESCRIPTION:
URL:https://fahrschule-gatz.com/event/grundstoff-lektion-5-vorfahrt-39/
END:VEVENT
BEGIN:VEVENT
DTSTART;TZID=Europe/Berlin:20260617T183000
DTEND;TZID=Europe/Berlin:20260617T200000
DTSTAMP:20260421T131130
CREATED:20260315T115904Z
LAST-MODIFIED:20260315T115904Z
UID:4941-1781721000-1781726400@fahrschule-gatz.com
SUMMARY:Grundstoff Lektion 6: Verkehrsregelungen\, Bahnübergänge
DESCRIPTION:
URL:https://fahrschule-gatz.com/event/grundstoff-lektion-6-verkehrsregelungen-bahnuebergaenge-39/
END:VEVENT
BEGIN:VEVENT
DTSTART;TZID=Europe/Berlin:20260618T170000
DTEND;TZID=Europe/Berlin:20260618T183000
DTSTAMP:20260421T131130
CREATED:20260315T120017Z
LAST-MODIFIED:20260315T120017Z
UID:4943-1781802000-1781807400@fahrschule-gatz.com
SUMMARY:Grundstoff Lektion 7: Geschwindigkeit\, Abstand
DESCRIPTION:
URL:https://fahrschule-gatz.com/event/grundstoff-lektion-7-geschwindigkeit-abstand-39/
END:VEVENT
BEGIN:VEVENT
DTSTART;TZID=Europe/Berlin:20260618T183000
DTEND;TZID=Europe/Berlin:20260618T200000
DTSTAMP:20260421T131130
CREATED:20260315T120115Z
LAST-MODIFIED:20260315T120115Z
UID:4945-1781807400-1781812800@fahrschule-gatz.com
SUMMARY:Grundstoff Lektion 8: Andere Verkehrsteilnehmer
DESCRIPTION:
URL:https://fahrschule-gatz.com/event/grundstoff-lektion-8-andere-verkehrsteilnehmer-39/
END:VEVENT
BEGIN:VEVENT
DTSTART;TZID=Europe/Berlin:20260622T170000
DTEND;TZID=Europe/Berlin:20260622T183000
DTSTAMP:20260421T131130
CREATED:20260315T120209Z
LAST-MODIFIED:20260315T120209Z
UID:4947-1782147600-1782153000@fahrschule-gatz.com
SUMMARY:Grundstoff Lektion 9: Verkehrsverhalten\, Verkehrsbeobachtung
DESCRIPTION:
URL:https://fahrschule-gatz.com/event/grundstoff-lektion-9-verkehrsverhalten-verkehrsbeobachtung-38/
END:VEVENT
BEGIN:VEVENT
DTSTART;TZID=Europe/Berlin:20260622T183000
DTEND;TZID=Europe/Berlin:20260622T200000
DTSTAMP:20260421T131130
CREATED:20260315T120310Z
LAST-MODIFIED:20260315T120310Z
UID:4949-1782153000-1782158400@fahrschule-gatz.com
SUMMARY:Grundstoff Lektion 10: Ruhender Verkehr
DESCRIPTION:
URL:https://fahrschule-gatz.com/event/grundstoff-lektion-10-ruhender-verkehr-39/
END:VEVENT
END:VCALENDAR