BEGIN:VCALENDAR
VERSION:2.0
PRODID:-//Fahrschule Gatz - ECPv5.14.1//NONSGML v1.0//EN
CALSCALE:GREGORIAN
METHOD:PUBLISH
X-WR-CALNAME:Fahrschule Gatz
X-ORIGINAL-URL:https://fahrschule-gatz.com
X-WR-CALDESC:Events for Fahrschule Gatz
REFRESH-INTERVAL;VALUE=DURATION:PT1H
X-Robots-Tag:noindex
X-PUBLISHED-TTL:PT1H
BEGIN:VTIMEZONE
TZID:Europe/Berlin
BEGIN:DAYLIGHT
TZOFFSETFROM:+0100
TZOFFSETTO:+0200
TZNAME:CEST
DTSTART:20260329T010000
END:DAYLIGHT
BEGIN:STANDARD
TZOFFSETFROM:+0200
TZOFFSETTO:+0100
TZNAME:CET
DTSTART:20261025T010000
END:STANDARD
END:VTIMEZONE
BEGIN:VEVENT
DTSTART;TZID=Europe/Berlin:20260513T170000
DTEND;TZID=Europe/Berlin:20260513T183000
DTSTAMP:20260421T173422
CREATED:20251214T175719Z
LAST-MODIFIED:20251214T175719Z
UID:4894-1778691600-1778697000@fahrschule-gatz.com
SUMMARY:Grundstoff Lektion 6: Verkehrsregelungen\, Bahnübergänge
DESCRIPTION:
URL:https://fahrschule-gatz.com/event/grundstoff-lektion-6-verkehrsregelungen-bahnuebergaenge-38/
END:VEVENT
BEGIN:VEVENT
DTSTART;TZID=Europe/Berlin:20260513T183000
DTEND;TZID=Europe/Berlin:20260513T200000
DTSTAMP:20260421T173422
CREATED:20251214T175817Z
LAST-MODIFIED:20251214T175817Z
UID:4896-1778697000-1778702400@fahrschule-gatz.com
SUMMARY:Grundstoff Lektion 5: Vorfahrt
DESCRIPTION:
URL:https://fahrschule-gatz.com/event/grundstoff-lektion-5-vorfahrt-38/
END:VEVENT
END:VCALENDAR