BEGIN:VCALENDAR
VERSION:2.0
PRODID:-//Fahrschule Gatz - ECPv5.14.1//NONSGML v1.0//EN
CALSCALE:GREGORIAN
METHOD:PUBLISH
X-WR-CALNAME:Fahrschule Gatz
X-ORIGINAL-URL:https://fahrschule-gatz.com
X-WR-CALDESC:Events for Fahrschule Gatz
REFRESH-INTERVAL;VALUE=DURATION:PT1H
X-Robots-Tag:noindex
X-PUBLISHED-TTL:PT1H
BEGIN:VTIMEZONE
TZID:Europe/Berlin
BEGIN:DAYLIGHT
TZOFFSETFROM:+0100
TZOFFSETTO:+0200
TZNAME:CEST
DTSTART:20260329T010000
END:DAYLIGHT
BEGIN:STANDARD
TZOFFSETFROM:+0200
TZOFFSETTO:+0100
TZNAME:CET
DTSTART:20261025T010000
END:STANDARD
END:VTIMEZONE
BEGIN:VEVENT
DTSTART;TZID=Europe/Berlin:20260420T170000
DTEND;TZID=Europe/Berlin:20260420T183000
DTSTAMP:20260421T155753
CREATED:20251214T174638Z
LAST-MODIFIED:20251214T174638Z
UID:4874-1776704400-1776709800@fahrschule-gatz.com
SUMMARY:Grundstoff Lektion 9: Verkehrsverhalten\, Verkehrsbeobachtung
DESCRIPTION:
URL:https://fahrschule-gatz.com/event/grundstoff-lektion-9-verkehrsverhalten-verkehrsbeobachtung-36/
END:VEVENT
BEGIN:VEVENT
DTSTART;TZID=Europe/Berlin:20260420T183000
DTEND;TZID=Europe/Berlin:20260420T200000
DTSTAMP:20260421T155753
CREATED:20251214T174731Z
LAST-MODIFIED:20251214T174731Z
UID:4876-1776709800-1776715200@fahrschule-gatz.com
SUMMARY:Grundstoff Lektion 10: Ruhender Verkehr
DESCRIPTION:
URL:https://fahrschule-gatz.com/event/grundstoff-lektion-10-ruhender-verkehr-37/
END:VEVENT
END:VCALENDAR